BEGIN:VCALENDAR
VERSION:2.0
PRODID:-//Courtyard Playhouse - ECPv6.15.20//NONSGML v1.0//EN
CALSCALE:GREGORIAN
METHOD:PUBLISH
X-WR-CALNAME:Courtyard Playhouse
X-ORIGINAL-URL:https://courtyardplayhouse.com
X-WR-CALDESC:Events for Courtyard Playhouse
REFRESH-INTERVAL;VALUE=DURATION:PT1H
X-Robots-Tag:noindex
X-PUBLISHED-TTL:PT1H
BEGIN:VTIMEZONE
TZID:Asia/Dubai
BEGIN:STANDARD
TZOFFSETFROM:+0400
TZOFFSETTO:+0400
TZNAME:+04
DTSTART:20240101T000000
END:STANDARD
END:VTIMEZONE
BEGIN:VEVENT
DTSTART;TZID=Asia/Dubai:20250906T090000
DTEND;TZID=Asia/Dubai:20251122T100000
DTSTAMP:20260421T201955
CREATED:20250614T143945Z
LAST-MODIFIED:20251110T111058Z
UID:162757-1757149200-1763805600@courtyardplayhouse.com
SUMMARY:Drama for Kids 4 Years Term 1 2025 Sat 9am
DESCRIPTION:JUMP TO REGISTRATION \nDrama classes for kids 4 years old are focused on developing confidence\, being part of a group and learning through play. \nChildren will experiment with acting out different characters\, expressing emotions through facial expressions\, voice and movement. Taking place in a beautiful theatre setting and a creative\, vibrant community atmosphere\, our classes conclude with a showcase performance\, giving the children a chance to put what they have learned into practice and gain valuable stage experience in front of an audience in a professional theatre. Class sizes are strictly limited to ensure individual attention. \n Term 1: Let’s Play \nFor the first term our focus is FUN\, making the children feel comfortable\, getting to know each other\, taking turns and feeling confident to express themselves whilst learning to play good-naturedly.
URL:https://courtyardplayhouse.com/event/drama-for-kids-4-years-term-1-2025-sat-9am/
CATEGORIES:4 Years Old,Drama for Kids and Teens,Kids and Teens Workshops,Term Classes,Workshops
ATTACH;FMTTYPE=image/png:https://courtyardplayhouse.com/wp-content/uploads/2024/10/4yrs-Drama-webbanner.png
END:VEVENT
END:VCALENDAR