BEGIN:VCALENDAR
VERSION:2.0
PRODID:-//Courtyard Playhouse - ECPv6.15.20//NONSGML v1.0//EN
CALSCALE:GREGORIAN
METHOD:PUBLISH
X-WR-CALNAME:Courtyard Playhouse
X-ORIGINAL-URL:https://courtyardplayhouse.com
X-WR-CALDESC:Events for Courtyard Playhouse
REFRESH-INTERVAL;VALUE=DURATION:PT1H
X-Robots-Tag:noindex
X-PUBLISHED-TTL:PT1H
BEGIN:VTIMEZONE
TZID:Asia/Dubai
BEGIN:STANDARD
TZOFFSETFROM:+0400
TZOFFSETTO:+0400
TZNAME:+04
DTSTART:20250101T000000
END:STANDARD
END:VTIMEZONE
BEGIN:VEVENT
DTSTART;TZID=Asia/Dubai:20260526T090000
DTEND;TZID=Asia/Dubai:20260529T120000
DTSTAMP:20260423T155449
CREATED:20260422T065014Z
LAST-MODIFIED:20260422T093114Z
UID:193370-1779786000-1780056000@courtyardplayhouse.com
SUMMARY:Mini Storytellers Eid Al Adha Camp 2026 4-7 Years (Morning) Kind Hearts Share and Care!
DESCRIPTION:JUMP TO REGISTRATION \nLet us take your child on a magical journey where they will creatively explore the wonderful and imaginative world of picture books by some of their favourite authors in our beautiful theatre! \nOur unique Eid Camp will nurture and stimulate your child’s passion for storytelling\, develop literacy skills and build confidence through drama games and movement. \nEach day we will explore a new book as inspiration for theatre games\, mime\, role-play\, as well as arts and crafts. Your child will develop their communication skills\, learn to work as part of a team and think creatively\, all whilst having fun under the guidance of instructors with a wealth of experience teaching children of all ages. The week will end in a showcase in our theatre for friends and family to enjoy. \nKind Hearts Share and Care!\nI Am Human – Susan Verde\nWe’re All Wonders – R. J. Palacio\nThe Wonderful Things You Will Be – Emily Winflied Martin
URL:https://courtyardplayhouse.com/event/mini-storytellers-eid-al-adha-camp-2026-4-7-years-morning-kind-hearts-share-and-care/
CATEGORIES:4-7 Years Old Camps,Holiday Camps,Kids and Teens Workshops,Workshops
ATTACH;FMTTYPE=image/png:https://courtyardplayhouse.com/wp-content/uploads/2026/04/MSEidAlAdha-eventcover.png
END:VEVENT
END:VCALENDAR