BEGIN:VCALENDAR
VERSION:2.0
PRODID:-//Courtyard Playhouse - ECPv6.15.20//NONSGML v1.0//EN
CALSCALE:GREGORIAN
METHOD:PUBLISH
X-WR-CALNAME:Courtyard Playhouse
X-ORIGINAL-URL:https://courtyardplayhouse.com
X-WR-CALDESC:Events for Courtyard Playhouse
REFRESH-INTERVAL;VALUE=DURATION:PT1H
X-Robots-Tag:noindex
X-PUBLISHED-TTL:PT1H
BEGIN:VTIMEZONE
TZID:Asia/Dubai
BEGIN:STANDARD
TZOFFSETFROM:+0400
TZOFFSETTO:+0400
TZNAME:+04
DTSTART:20250101T000000
END:STANDARD
END:VTIMEZONE
BEGIN:VEVENT
DTSTART;TZID=Asia/Dubai:20260131T200000
DTEND;TZID=Asia/Dubai:20260131T220000
DTSTAMP:20260422T123008
CREATED:20260108T081727Z
LAST-MODIFIED:20260109T095531Z
UID:183611-1769889600-1769896800@courtyardplayhouse.com
SUMMARY:NATIONAL THEATRE LIVE SCREENING: THE FIFTH STEP SAT 31 JAN 2026
DESCRIPTION:JUMP TO REGISTRATION \nThe Fifth Step by David Ireland directed by Finn den Hertog \nOlivier Award-winner Jack Lowden (Slow Horses\, Dunkirk) is joined by Emmy and BAFTA-winner Martin Freeman (The Hobbit\, The Responder) in the critically acclaimed and subversively funny new play by David Ireland. \nAfter years in the 12-step programme of Alcoholics Anonymous\, James becomes a sponsor to newcomer Luka. The pair bond over black coffee\, trade stories and build a fragile friendship out of their shared experiences. But as Luka approaches step five – the moment of confession – dangerous truths emerge\, threatening the trust on which both of their recoveries depend. \nFinn den Hertog directs the provocative and entertaining production filmed live from @sohoplace on London’s West End. \n  \n★★★★★ ‘Raw\, excruciating and often alarmingly funny’ – Daily Mail \n★★★★ ‘Hilarious two-hander’ – Guardian \n★★★★ ‘Two actors at the top of their game’ – Evening Standard \n  \nWatch the trailer HERE
URL:https://courtyardplayhouse.com/event/national-theatre-live-screening-the-fifth-step-sat-31-jan-2026/
CATEGORIES:NT Live Screenings
ATTACH;FMTTYPE=image/jpeg:https://courtyardplayhouse.com/wp-content/uploads/2026/01/thefifthstep-fbevent.jpg
END:VEVENT
END:VCALENDAR